BEGIN:VCALENDAR
VERSION:2.0
PRODID:-//Trachtenkapelle Münstertal - ECPv6.15.14//NONSGML v1.0//EN
CALSCALE:GREGORIAN
METHOD:PUBLISH
X-WR-CALNAME:Trachtenkapelle Münstertal
X-ORIGINAL-URL:https://www.tkmuenstertal.de
X-WR-CALDESC:Veranstaltungen für Trachtenkapelle Münstertal
REFRESH-INTERVAL;VALUE=DURATION:PT1H
X-Robots-Tag:noindex
X-PUBLISHED-TTL:PT1H
BEGIN:VTIMEZONE
TZID:Europe/Berlin
BEGIN:DAYLIGHT
TZOFFSETFROM:+0100
TZOFFSETTO:+0200
TZNAME:CEST
DTSTART:20250330T010000
END:DAYLIGHT
BEGIN:STANDARD
TZOFFSETFROM:+0200
TZOFFSETTO:+0100
TZNAME:CET
DTSTART:20251026T010000
END:STANDARD
BEGIN:DAYLIGHT
TZOFFSETFROM:+0100
TZOFFSETTO:+0200
TZNAME:CEST
DTSTART:20260329T010000
END:DAYLIGHT
BEGIN:STANDARD
TZOFFSETFROM:+0200
TZOFFSETTO:+0100
TZNAME:CET
DTSTART:20261025T010000
END:STANDARD
BEGIN:DAYLIGHT
TZOFFSETFROM:+0100
TZOFFSETTO:+0200
TZNAME:CEST
DTSTART:20270328T010000
END:DAYLIGHT
BEGIN:STANDARD
TZOFFSETFROM:+0200
TZOFFSETTO:+0100
TZNAME:CET
DTSTART:20271031T010000
END:STANDARD
END:VTIMEZONE
BEGIN:VEVENT
DTSTART;TZID=Europe/Berlin:20260426T081500
DTEND;TZID=Europe/Berlin:20260426T120000
DTSTAMP:20260422T114230
CREATED:20260203T155411Z
LAST-MODIFIED:20260203T155411Z
UID:2513-1777191300-1777204800@www.tkmuenstertal.de
SUMMARY:Trudpertsfest
DESCRIPTION:Begleitung des Patrozinums von St. Trudpert.
URL:https://www.tkmuenstertal.de/event/trudpertsfest/
LOCATION:Kirche St. Trudpert\, Münstertal\, 79244
END:VEVENT
BEGIN:VEVENT
DTSTART;TZID=Europe/Berlin:20260501T060000
DTEND;TZID=Europe/Berlin:20260501T140000
DTSTAMP:20260422T114230
CREATED:20260203T155740Z
LAST-MODIFIED:20260203T155740Z
UID:2516-1777615200-1777644000@www.tkmuenstertal.de
SUMMARY:Maispielen
DESCRIPTION:Begrüßung des Frühlings an verschiedenen Stationen im Münstertal. \nUnter anderem: \n\nCampingplatz Münstertal\nRathaus Münstertal\nKloster St. Trudpert\nMulden/Rotenbuck
URL:https://www.tkmuenstertal.de/event/maispielen/
END:VEVENT
BEGIN:VEVENT
DTSTART;TZID=Europe/Berlin:20260510T140000
DTEND;TZID=Europe/Berlin:20260510T160000
DTSTAMP:20260422T114230
CREATED:20260410T174842Z
LAST-MODIFIED:20260410T174842Z
UID:2563-1778421600-1778428800@www.tkmuenstertal.de
SUMMARY:Schülervorspiel
DESCRIPTION:Schülervorspiel in der Aula der Abt-Columban-Schule.
URL:https://www.tkmuenstertal.de/event/schuelervorspiel/
LOCATION:Abt-Columban-Schule\, Abt-Columban-Weg 4\, Münstertal\, 79244
END:VEVENT
BEGIN:VEVENT
DTSTART;TZID=Europe/Berlin:20260513T180000
DTEND;TZID=Europe/Berlin:20260513T200000
DTSTAMP:20260422T114230
CREATED:20260410T180602Z
LAST-MODIFIED:20260410T180602Z
UID:2567-1778695200-1778702400@www.tkmuenstertal.de
SUMMARY:Feierabendhock
DESCRIPTION:Feierabendhock auf dem Rathausplatz Münstertal.
URL:https://www.tkmuenstertal.de/event/feierabendhock/
LOCATION:Rathaus Münstertal\, Wasen 47\, Münstertal\, 79244
END:VEVENT
BEGIN:VEVENT
DTSTART;TZID=Europe/Berlin:20260604T081500
DTEND;TZID=Europe/Berlin:20260604T120000
DTSTAMP:20260422T114230
CREATED:20260203T160006Z
LAST-MODIFIED:20260203T160006Z
UID:2518-1780560900-1780574400@www.tkmuenstertal.de
SUMMARY:Fronleichnam
DESCRIPTION:Begleitung der Fronleichnamsprozession.
URL:https://www.tkmuenstertal.de/event/fronleichnam/
LOCATION:Kirche St. Trudpert\, Münstertal\, 79244
END:VEVENT
BEGIN:VEVENT
DTSTART;TZID=Europe/Berlin:20260614T103000
DTEND;TZID=Europe/Berlin:20260614T123000
DTSTAMP:20260422T114230
CREATED:20260203T160331Z
LAST-MODIFIED:20260203T160730Z
UID:2522-1781433000-1781440200@www.tkmuenstertal.de
SUMMARY:Antoniushock
DESCRIPTION:
URL:https://www.tkmuenstertal.de/event/antoniushock/
LOCATION:Antoniuskapelle\, Rotenbuck 14\, Münstertal\, 79244\, Germany
END:VEVENT
BEGIN:VEVENT
DTSTART;TZID=Europe/Berlin:20260628T110000
DTEND;TZID=Europe/Berlin:20260628T123000
DTSTAMP:20260422T114230
CREATED:20260412T090200Z
LAST-MODIFIED:20260412T090608Z
UID:2569-1782644400-1782649800@www.tkmuenstertal.de
SUMMARY:Unterhaltungskonzert Wieden
DESCRIPTION:Unterhaltungskonzert bei der Bergmannskapelle Wieden.
URL:https://www.tkmuenstertal.de/event/unterhaltungskonzert-wieden/
END:VEVENT
BEGIN:VEVENT
DTSTART;TZID=Europe/Berlin:20260714T183000
DTEND;TZID=Europe/Berlin:20260714T203000
DTSTAMP:20260422T114230
CREATED:20260412T090456Z
LAST-MODIFIED:20260412T090456Z
UID:2571-1784053800-1784061000@www.tkmuenstertal.de
SUMMARY:Unterhaltungskonzert Bahnhof Münstertal
DESCRIPTION:Unterhaltungskonzert im Bahnhof Münstertal.
URL:https://www.tkmuenstertal.de/event/unterhaltungskonzert-bahnhof-muenstertal/
LOCATION:Bahnhof Münstertal\, Belchenstrasse 24\, Münstertal\, 79244
END:VEVENT
BEGIN:VEVENT
DTSTART;TZID=Europe/Berlin:20260726T160000
DTEND;TZID=Europe/Berlin:20260726T180000
DTSTAMP:20260422T114230
CREATED:20250707T201024Z
LAST-MODIFIED:20260203T160457Z
UID:2416-1785081600-1785088800@www.tkmuenstertal.de
SUMMARY:Laurentiusfest Münstertal
DESCRIPTION:Unterhaltungskonzert auf dem Laurentiusfest im Münstertal.
URL:https://www.tkmuenstertal.de/event/laurentiusfest-muenstertal/
END:VEVENT
BEGIN:VEVENT
DTSTART;TZID=Europe/Berlin:20260801T173000
DTEND;TZID=Europe/Berlin:20260801T193000
DTSTAMP:20260422T114230
CREATED:20250707T201109Z
LAST-MODIFIED:20260203T160552Z
UID:2418-1785605400-1785612600@www.tkmuenstertal.de
SUMMARY:Weinfest Staufen
DESCRIPTION:Unterhaltungskonzert auf dem Weinfest in Staufen.
URL:https://www.tkmuenstertal.de/event/weinfest-staufen/
END:VEVENT
BEGIN:VEVENT
DTSTART;TZID=Europe/Berlin:20260809T113000
DTEND;TZID=Europe/Berlin:20260809T133000
DTSTAMP:20260422T114230
CREATED:20260412T090844Z
LAST-MODIFIED:20260412T090844Z
UID:2575-1786275000-1786282200@www.tkmuenstertal.de
SUMMARY:Unterhaltungskonzert Feierling Freiburg
DESCRIPTION:Unterhaltungskonzert bei der Brauerei Feierling in Freiburg.
URL:https://www.tkmuenstertal.de/event/unterhaltungskonzert-feierling-freiburg/
LOCATION:Feierling Freiburg\, Gerberau 46\, Freiburg\, 79098
END:VEVENT
BEGIN:VEVENT
DTSTART;TZID=Europe/Berlin:20260925T170000
DTEND;TZID=Europe/Berlin:20260925T183000
DTSTAMP:20260422T114230
CREATED:20260412T091102Z
LAST-MODIFIED:20260412T091102Z
UID:2578-1790355600-1790361000@www.tkmuenstertal.de
SUMMARY:Ganter Oktoberfest
DESCRIPTION:Umrahmung des Einlass zum Ganter Oktoberfest in Freiburg.
URL:https://www.tkmuenstertal.de/event/ganter-oktoberfest/
LOCATION:Ganter Brauerei\, Schwarzwaldstraße 43\, Freiburg\, 79117
END:VEVENT
BEGIN:VEVENT
DTSTART;TZID=Europe/Berlin:20261004T113000
DTEND;TZID=Europe/Berlin:20261004T133000
DTSTAMP:20260422T114230
CREATED:20260412T091459Z
LAST-MODIFIED:20260412T091459Z
UID:2583-1791113400-1791120600@www.tkmuenstertal.de
SUMMARY:Weideabtrieb
DESCRIPTION:Unterhaltungskonzert auf dem Weideabtieb Münstertal.
URL:https://www.tkmuenstertal.de/event/weideabtrieb/
END:VEVENT
BEGIN:VEVENT
DTSTART;TZID=Europe/Berlin:20261107T200000
DTEND;TZID=Europe/Berlin:20261107T200000
DTSTAMP:20260422T114230
CREATED:20250708T163350Z
LAST-MODIFIED:20260203T161351Z
UID:2424-1794081600-1794081600@www.tkmuenstertal.de
SUMMARY:Schlagerparty mit Papi's Pumpels
DESCRIPTION:
URL:https://www.tkmuenstertal.de/event/schlagerparty-mit-papis-pumpels/
LOCATION:Belchenhalle\, Münstertal\, 79244
END:VEVENT
BEGIN:VEVENT
DTSTART;TZID=Europe/Berlin:20261205T200000
DTEND;TZID=Europe/Berlin:20261205T220000
DTSTAMP:20260422T114230
CREATED:20260412T091259Z
LAST-MODIFIED:20260412T091259Z
UID:2581-1796500800-1796508000@www.tkmuenstertal.de
SUMMARY:Jahreskonzert TKM
DESCRIPTION:Unser Jahreskonzert 2026!
URL:https://www.tkmuenstertal.de/event/jahreskonzert-tkm/
LOCATION:Belchenhalle\, Münstertal\, 79244
END:VEVENT
END:VCALENDAR